BEGIN:VCALENDAR
VERSION:2.0
PRODID:-//ChamberMaster//Event Calendar 2.0//EN
METHOD:PUBLISH
X-PUBLISHED-TTL:P3D
REFRESH-INTERVAL:P3D
CALSCALE:GREGORIAN
BEGIN:VEVENT
DTSTART:20140517T140000Z
DTEND:20140517T170000Z
X-MICROSOFT-CDO-ALLDAYEVENT:FALSE
SUMMARY:Pathways of Pella Walk for Life
DESCRIPTION:SATURDAY\, MAY 17\, 2014 WEST MARKET PARK NORTH SHELTER BEGINS AT 9:00 AM To register and for more information go to: www.pathwayspella.org call 641-628-4827 email chris@pathwayspella.org
X-ALT-DESC;FMTTYPE=text/html:SATURDAY\, MAY 17\, 2014 WEST MARKET PARK NORTH SHELTER BEGINS AT 9:00 AM To register and for more information go to: www.pathwayspella.org call 641-628-4827 email chris@pathwayspella.org
LOCATION:West Market Park North Shelter
UID:e.2620.46012
SEQUENCE:3
DTSTAMP:20260421T093247Z
URL:https://members.dsmpartnership.com/events/details/pathways-of-pella-walk-for-life-05-17-2014-46012
END:VEVENT

END:VCALENDAR
