BEGIN:VCALENDAR
VERSION:2.0
PRODID:-//ChamberMaster//Event Calendar 2.0//EN
METHOD:PUBLISH
X-PUBLISHED-TTL:P3D
REFRESH-INTERVAL:P3D
CALSCALE:GREGORIAN
BEGIN:VEVENT
DTSTART:20260502T120000Z
DTEND:20260502T170000Z
X-MICROSOFT-CDO-ALLDAYEVENT:FALSE
SUMMARY:2026 Downtown Farmers' Market
DESCRIPTION:
X-ALT-DESC;FMTTYPE=text/html:
LOCATION:
UID:e.2620.1631431
SEQUENCE:3
DTSTAMP:20260423T164603Z
URL:https://members.dsmpartnership.com/events/details/2026-downtown-farmers-market-1631431
END:VEVENT

END:VCALENDAR
