BEGIN:VCALENDAR
VERSION:2.0
PRODID:-//ChamberMaster//Event Calendar 2.0//EN
METHOD:PUBLISH
X-PUBLISHED-TTL:P3D
REFRESH-INTERVAL:P3D
CALSCALE:GREGORIAN
BEGIN:VEVENT
DTSTART:20250818T220000Z
DTEND:20250819T000000Z
X-MICROSOFT-CDO-ALLDAYEVENT:FALSE
SUMMARY:2025 Partnership 101 Congressional Reception
DESCRIPTION:Join the Greater Des Moines Partnership in welcoming staff members from Iowa's Congressional Offices in Washington\, D.C. and Iowa - to Greater Des Moines (DSM) during an evening reception. Light hors d'oeuvres and beverages will be provided.
X-ALT-DESC;FMTTYPE=text/html:<span style="font-size:16px\;"><span style="font-family:tahoma\;">Join the Greater Des Moines Partnership in welcoming staff members from Iowa&#39\;s Congressional Offices in Washington\, D.C. and Iowa - to Greater Des Moines (DSM) during an evening reception. Light hors d&#39\;oeuvres and beverages will be provided.&nbsp\;</span></span>
LOCATION:Holmes Murphy 2727 Grand Prairie Pkwy Waukee\, IA 50263
UID:e.2620.62425
SEQUENCE:3
DTSTAMP:20260423T211039Z
URL:https://members.dsmpartnership.com/events/details/2025-partnership-101-congressional-reception-62425
END:VEVENT

END:VCALENDAR
